BEGIN:VCALENDAR
VERSION:2.0
PRODID:-//Virage Énergie Centre-Val de Loire - ECPv5.15.0.1//NONSGML v1.0//EN
CALSCALE:GREGORIAN
METHOD:PUBLISH
X-WR-CALNAME:Virage Énergie Centre-Val de Loire
X-ORIGINAL-URL:https://virage-energie-centre-val-de-loire.fr
X-WR-CALDESC:évènements pour Virage Énergie Centre-Val de Loire
BEGIN:VTIMEZONE
TZID:Europe/Paris
BEGIN:DAYLIGHT
TZOFFSETFROM:+0100
TZOFFSETTO:+0200
TZNAME:CEST
DTSTART:20200329T010000
END:DAYLIGHT
BEGIN:STANDARD
TZOFFSETFROM:+0200
TZOFFSETTO:+0100
TZNAME:CET
DTSTART:20201025T010000
END:STANDARD
END:VTIMEZONE
BEGIN:VEVENT
DTSTART;TZID=Europe/Paris:20200912T100000
DTEND;TZID=Europe/Paris:20200912T163000
DTSTAMP:20260422T203303
CREATED:20200716T160304Z
LAST-MODIFIED:20200716T161646Z
UID:395-1599904800-1599928200@virage-energie-centre-val-de-loire.fr
SUMMARY:Assemblée Générale 2020
DESCRIPTION:(Possibilité de suivre la matinée sur Zoom) \n \nPour s’inscrire c’est par ici ->  \nhttps://framaforms.org/assemblee-generale-2020-virage-energie-centre-vdl-1594721707 \nNotre AG est ouverte à nos adhérent.es et à celles et ceux qui souhaiteraient peut-être le devenir ! \n\nDébut 2020 notre association a finalisé le Livre Blanc de la transition écologique\, co-écrit avec 70 contributeurs de différentes associations\, dans le contexte du lancement de la COP initiée par la Région. \nVirage Energie a maintenant besoin de forces vives afin de mener une dynamique de réelle transition écologique et sociale avec notamment la mobilisation des acteurs associatifs présents sur le territoire… Nous vous invitons à venir donner votre avis et vos idées !\nUn questionnaire est actuellement en ligne afin de préparer la réflexion\, pour y participer c’est par ici :\nhttps://framaforms.org/developpement-virage-energie-centre-val-de-loire-1587471744 \nAu programme de cette journée (Possibilité de suivre la matinée sur Zoom) : \n10h00 : Présentation institutionnelle/statutaire (1h30)\n11h30 : (Partie 1) Présentation du questionnaire et réflexion sur développement de missions/projets internes selon les compétences et appétences de chacun\n12h30 : Repas\n14h00 : (Partie 2) Suite réflexion sur développement de missions/projets internes (45min)\n15h00 : Présentation du livre blanc et du projet de coalition climat (1h30 avec échanges) \nAu plaisir de vous y voir nombreux !
URL:https://virage-energie-centre-val-de-loire.fr/event/assemblee-generale-2020/
LOCATION:Maison des associations d’Orléans\, 46 ter rue Ste Catherine\, Orléans\, 46 ter rue Ste Catherine\, Orléans\, 45000\, France
END:VEVENT
END:VCALENDAR